BEGIN:VCALENDAR
VERSION:2.0
PRODID:-//New Hope Church - ECPv6.15.20//NONSGML v1.0//EN
CALSCALE:GREGORIAN
METHOD:PUBLISH
X-WR-CALNAME:New Hope Church
X-ORIGINAL-URL:https://www.newhope.us
X-WR-CALDESC:Events for New Hope Church
REFRESH-INTERVAL;VALUE=DURATION:PT1H
X-Robots-Tag:noindex
X-PUBLISHED-TTL:PT1H
BEGIN:VTIMEZONE
TZID:America/New_York
BEGIN:DAYLIGHT
TZOFFSETFROM:-0500
TZOFFSETTO:-0400
TZNAME:EDT
DTSTART:20220313T070000
END:DAYLIGHT
BEGIN:STANDARD
TZOFFSETFROM:-0400
TZOFFSETTO:-0500
TZNAME:EST
DTSTART:20221106T060000
END:STANDARD
BEGIN:DAYLIGHT
TZOFFSETFROM:-0500
TZOFFSETTO:-0400
TZNAME:EDT
DTSTART:20230312T070000
END:DAYLIGHT
BEGIN:STANDARD
TZOFFSETFROM:-0400
TZOFFSETTO:-0500
TZNAME:EST
DTSTART:20231105T060000
END:STANDARD
BEGIN:DAYLIGHT
TZOFFSETFROM:-0500
TZOFFSETTO:-0400
TZNAME:EDT
DTSTART:20240310T070000
END:DAYLIGHT
BEGIN:STANDARD
TZOFFSETFROM:-0400
TZOFFSETTO:-0500
TZNAME:EST
DTSTART:20241103T060000
END:STANDARD
BEGIN:DAYLIGHT
TZOFFSETFROM:-0500
TZOFFSETTO:-0400
TZNAME:EDT
DTSTART:20250309T070000
END:DAYLIGHT
BEGIN:STANDARD
TZOFFSETFROM:-0400
TZOFFSETTO:-0500
TZNAME:EST
DTSTART:20251102T060000
END:STANDARD
BEGIN:DAYLIGHT
TZOFFSETFROM:-0500
TZOFFSETTO:-0400
TZNAME:EDT
DTSTART:20260308T070000
END:DAYLIGHT
BEGIN:STANDARD
TZOFFSETFROM:-0400
TZOFFSETTO:-0500
TZNAME:EST
DTSTART:20261101T060000
END:STANDARD
BEGIN:DAYLIGHT
TZOFFSETFROM:-0500
TZOFFSETTO:-0400
TZNAME:EDT
DTSTART:20270314T070000
END:DAYLIGHT
BEGIN:STANDARD
TZOFFSETFROM:-0400
TZOFFSETTO:-0500
TZNAME:EST
DTSTART:20271107T060000
END:STANDARD
END:VTIMEZONE
BEGIN:VEVENT
DTSTART;TZID=America/New_York:20260316T090000
DTEND;TZID=America/New_York:20260330T233000
DTSTAMP:20260425T103527
CREATED:20260204T174804Z
LAST-MODIFIED:20260315T233844Z
UID:11066-1773651600-1774913400@www.newhope.us
SUMMARY:New Hope VBS\, 캠프 외부등록 // VBS\, Camp Public Registration
DESCRIPTION:
URL:https://www.newhope.us/event/new-hope-vbs-camp-public-registration-2026/
CATEGORIES:여름 행사 / Summer
END:VEVENT
BEGIN:VEVENT
DTSTART;TZID=America/New_York:20260223T000000
DTEND;TZID=America/New_York:20260309T233000
DTSTAMP:20260425T103527
CREATED:20260204T174631Z
LAST-MODIFIED:20260204T174631Z
UID:11064-1771804800-1773099000@www.newhope.us
SUMMARY:New Hope VBS\, 캠프 교인등록 // VBS\, Camp Registration for the Church Members
DESCRIPTION:
URL:https://www.newhope.us/event/new-hope-vbs-camp-registration-for-the-church-members-2026/
CATEGORIES:여름 행사 / Summer
END:VEVENT
BEGIN:VEVENT
DTSTART;TZID=America/New_York:20250811T080000
DTEND;TZID=America/New_York:20250816T170000
DTSTAMP:20260425T103527
CREATED:20250706T112319Z
LAST-MODIFIED:20250706T112319Z
UID:10193-1754899200-1755363600@www.newhope.us
SUMMARY:에콰도르 선교 // Mission Ecuador
DESCRIPTION:
URL:https://www.newhope.us/event/summer-mission-ecuador-2025/
LOCATION:Ecuador\, Ecuador
CATEGORIES:선교 / Mission,여름 행사 / Summer
END:VEVENT
BEGIN:VEVENT
DTSTART;TZID=America/New_York:20250728T093000
DTEND;TZID=America/New_York:20250801T093000
DTSTAMP:20260425T103527
CREATED:20250705T125530Z
LAST-MODIFIED:20250705T125530Z
UID:10185-1753695000-1754040600@www.newhope.us
SUMMARY:새소망 여름성경학교 / New Hope VBS
DESCRIPTION:
URL:https://www.newhope.us/event/new-hope-vbs-2025/
LOCATION:New Hope Church\, 6301 Stevens Forest Rd.\, Columbia\, MD\, 21046\, United States
CATEGORIES:여름 행사 / Summer
END:VEVENT
BEGIN:VEVENT
DTSTART;TZID=America/New_York:20250721T093000
DTEND;TZID=America/New_York:20250724T093000
DTSTAMP:20260425T103527
CREATED:20250705T125711Z
LAST-MODIFIED:20250705T125724Z
UID:10189-1753090200-1753349400@www.newhope.us
SUMMARY:새소망 학생부 여름캠프 / New Hope Youth Summer Camp
DESCRIPTION:
URL:https://www.newhope.us/event/new-hope-youth-summer-camp-2025-2/
LOCATION:New Hope Church\, 6301 Stevens Forest Rd.\, Columbia\, MD\, 21046\, United States
CATEGORIES:여름 행사 / Summer,학생부 / Youth Group
END:VEVENT
BEGIN:VEVENT
DTSTART;TZID=America/New_York:20250721T093000
DTEND;TZID=America/New_York:20250724T093000
DTSTAMP:20260425T103527
CREATED:20250705T112258Z
LAST-MODIFIED:20250705T125349Z
UID:10182-1753090200-1753349400@www.newhope.us
SUMMARY:뉴홉키즈 여름 캠프 / New Hope Kids Summer Camp
DESCRIPTION:
URL:https://www.newhope.us/event/new-hope-kids-summer-camp-2025-2/
LOCATION:New Hope Church\, 6301 Stevens Forest Rd.\, Columbia\, MD\, 21046\, United States
CATEGORIES:여름 행사 / Summer
END:VEVENT
BEGIN:VEVENT
DTSTART;TZID=America/New_York:20250714T093000
DTEND;TZID=America/New_York:20250717T093000
DTSTAMP:20260425T103527
CREATED:20250705T125617Z
LAST-MODIFIED:20250705T125746Z
UID:10187-1752485400-1752744600@www.newhope.us
SUMMARY:새소망 학생부 여름캠프 / New Hope Youth Summer Camp
DESCRIPTION:
URL:https://www.newhope.us/event/new-hope-youth-summer-camp-2025-1/
LOCATION:New Hope Church\, 6301 Stevens Forest Rd.\, Columbia\, MD\, 21046\, United States
CATEGORIES:여름 행사 / Summer,학생부 / Youth Group
END:VEVENT
BEGIN:VEVENT
DTSTART;TZID=America/New_York:20250714T093000
DTEND;TZID=America/New_York:20250717T093000
DTSTAMP:20260425T103527
CREATED:20250705T105555Z
LAST-MODIFIED:20250705T105640Z
UID:10180-1752485400-1752744600@www.newhope.us
SUMMARY:뉴홉키즈 여름 캠프 / New Hope Kids Summer Camp
DESCRIPTION:
URL:https://www.newhope.us/event/new-hope-kids-summer-camp-2025/
LOCATION:New Hope Church\, 6301 Stevens Forest Rd.\, Columbia\, MD\, 21046\, United States
CATEGORIES:여름 행사 / Summer
END:VEVENT
BEGIN:VEVENT
DTSTART;VALUE=DATE:20250317
DTEND;VALUE=DATE:20250401
DTSTAMP:20260425T103527
CREATED:20250206T125637Z
LAST-MODIFIED:20250206T130220Z
UID:9494-1742169600-1743465599@www.newhope.us
SUMMARY:New Hope VBS\, 캠프 외부등록 // VBS\, Camp Public Registration
DESCRIPTION:
URL:https://www.newhope.us/event/newhopecampvbspublicregistration2025/
LOCATION:New Hope Church\, 6301 Stevens Forest Rd.\, Columbia\, MD\, 21046\, United States
CATEGORIES:여름 행사 / Summer
END:VEVENT
BEGIN:VEVENT
DTSTART;TZID=America/New_York:20250224T000000
DTEND;TZID=America/New_York:20250310T233000
DTSTAMP:20260425T103527
CREATED:20250206T130145Z
LAST-MODIFIED:20250206T130145Z
UID:9496-1740355200-1741649400@www.newhope.us
SUMMARY:New Hope VBS\, 캠프 교인등록 // VBS\, Camp Registration for the Church Members
DESCRIPTION:
URL:https://www.newhope.us/event/newhopecampvbsregistration2025/
LOCATION:New Hope Church\, 6301 Stevens Forest Rd.\, Columbia\, MD\, 21046\, United States
CATEGORIES:여름 행사 / Summer
END:VEVENT
BEGIN:VEVENT
DTSTART;TZID=America/New_York:20240722T093000
DTEND;TZID=America/New_York:20240726T093000
DTSTAMP:20260425T103527
CREATED:20240325T174740Z
LAST-MODIFIED:20240325T174920Z
UID:8127-1721640600-1721986200@www.newhope.us
SUMMARY:새소망 여름성경학교 / New Hope VBS
DESCRIPTION:
URL:https://www.newhope.us/event/%ec%83%88%ec%86%8c%eb%a7%9d-%ec%97%ac%eb%a6%84%ec%84%b1%ea%b2%bd%ed%95%99%ea%b5%90-new-hope-vbs-2/
LOCATION:New Hope Church\, 6301 Stevens Forest Rd.\, Columbia\, MD\, 21046\, United States
CATEGORIES:여름 행사 / Summer
END:VEVENT
BEGIN:VEVENT
DTSTART;TZID=America/New_York:20240715T093000
DTEND;TZID=America/New_York:20240718T150000
DTSTAMP:20260425T103527
CREATED:20240624T012610Z
LAST-MODIFIED:20240624T012610Z
UID:8530-1721035800-1721314800@www.newhope.us
SUMMARY:새소망 학생부 여름캠프 / New Hope Youth Summer Camp
DESCRIPTION:
URL:https://www.newhope.us/event/%ec%83%88%ec%86%8c%eb%a7%9d-%ed%95%99%ec%83%9d%eb%b6%80-%ec%97%ac%eb%a6%84%ec%ba%a0%ed%94%84-new-hope-youth-summer-camp-2/
CATEGORIES:여름 행사 / Summer
END:VEVENT
BEGIN:VEVENT
DTSTART;TZID=America/New_York:20240715T093000
DTEND;TZID=America/New_York:20240718T093000
DTSTAMP:20260425T103527
CREATED:20240325T175047Z
LAST-MODIFIED:20240325T175047Z
UID:8131-1721035800-1721295000@www.newhope.us
SUMMARY:뉴홉키즈 여름 캠프 / New Hope Kids Summer Camp
DESCRIPTION:
URL:https://www.newhope.us/event/%eb%89%b4%ed%99%89%ed%82%a4%ec%a6%88-%ec%97%ac%eb%a6%84-%ec%ba%a0%ed%94%84-new-hope-kids-summer-camp-3/
LOCATION:New Hope Church\, 6301 Stevens Forest Rd.\, Columbia\, MD\, 21046\, United States
CATEGORIES:여름 행사 / Summer
END:VEVENT
BEGIN:VEVENT
DTSTART;TZID=America/New_York:20240708T093000
DTEND;TZID=America/New_York:20240711T150000
DTSTAMP:20260425T103527
CREATED:20240624T012540Z
LAST-MODIFIED:20240624T012647Z
UID:8528-1720431000-1720710000@www.newhope.us
SUMMARY:새소망 학생부 여름캠프 / New Hope Youth Summer Camp
DESCRIPTION:
URL:https://www.newhope.us/event/%ec%83%88%ec%86%8c%eb%a7%9d-%ed%95%99%ec%83%9d%eb%b6%80-%ec%97%ac%eb%a6%84%ec%ba%a0%ed%94%84-new-hope-youth-summer-camp/
LOCATION:New Hope Church\, 6301 Stevens Forest Rd.\, Columbia\, MD\, 21046\, United States
CATEGORIES:여름 행사 / Summer
END:VEVENT
BEGIN:VEVENT
DTSTART;TZID=America/New_York:20240708T093000
DTEND;TZID=America/New_York:20240711T093000
DTSTAMP:20260425T103527
CREATED:20240325T174840Z
LAST-MODIFIED:20240325T175207Z
UID:8129-1720431000-1720690200@www.newhope.us
SUMMARY:뉴홉키즈 여름 캠프 / New Hope Kids Summer Camp
DESCRIPTION:
URL:https://www.newhope.us/event/%eb%89%b4%ed%99%89%ed%82%a4%ec%a6%88-%ec%97%ac%eb%a6%84-%ec%ba%a0%ed%94%84-new-hope-kids-summer-camp-2/
LOCATION:New Hope Church\, 6301 Stevens Forest Rd.\, Columbia\, MD\, 21046\, United States
CATEGORIES:여름 행사 / Summer
END:VEVENT
BEGIN:VEVENT
DTSTART;TZID=America/New_York:20240310T100000
DTEND;TZID=America/New_York:20240331T100000
DTSTAMP:20260425T103527
CREATED:20240211T015348Z
LAST-MODIFIED:20240211T020128Z
UID:7528-1710064800-1711879200@www.newhope.us
SUMMARY:New Hope VBS\, 캠프 등록 // VBS\, Camp Registration
DESCRIPTION:
URL:https://www.newhope.us/event/new-hope-vbs-%ec%ba%a0%ed%94%84-%eb%93%b1%eb%a1%9d-vbs-camp-registration/
CATEGORIES:여름 행사 / Summer
END:VEVENT
BEGIN:VEVENT
DTSTART;TZID=America/New_York:20230804T193000
DTEND;TZID=America/New_York:20230804T193000
DTSTAMP:20260425T103527
CREATED:20230729T215739Z
LAST-MODIFIED:20230729T215739Z
UID:6444-1691177400-1691177400@www.newhope.us
SUMMARY:새소망 여름캠프 및 여름성경학교 발표회 / New Hope Summer Camp & VBS Presentation
DESCRIPTION:
URL:https://www.newhope.us/event/%ec%83%88%ec%86%8c%eb%a7%9d-%ec%97%ac%eb%a6%84%ec%ba%a0%ed%94%84-%eb%b0%8f-%ec%97%ac%eb%a6%84%ec%84%b1%ea%b2%bd%ed%95%99%ea%b5%90-%eb%b0%9c%ed%91%9c%ed%9a%8c-new-hope-summer-camp-vbs-presentation/
LOCATION:New Hope Church\, 6301 Stevens Forest Rd.\, Columbia\, MD\, 21046\, United States
CATEGORIES:여름 행사 / Summer
END:VEVENT
BEGIN:VEVENT
DTSTART;TZID=America/New_York:20230731T080000
DTEND;TZID=America/New_York:20230804T120000
DTSTAMP:20260425T103527
CREATED:20230415T235327Z
LAST-MODIFIED:20230415T235327Z
UID:5498-1690790400-1691150400@www.newhope.us
SUMMARY:새소망 여름성경학교 / New Hope VBS
DESCRIPTION:
URL:https://www.newhope.us/event/%ec%83%88%ec%86%8c%eb%a7%9d-%ec%97%ac%eb%a6%84%ec%84%b1%ea%b2%bd%ed%95%99%ea%b5%90-new-hope-vbs/
LOCATION:New Hope Church\, 6301 Stevens Forest Rd.\, Columbia\, MD\, 21046\, United States
CATEGORIES:여름 행사 / Summer
END:VEVENT
BEGIN:VEVENT
DTSTART;VALUE=DATE:20230716
DTEND;VALUE=DATE:20230728
DTSTAMP:20260425T103527
CREATED:20230415T235223Z
LAST-MODIFIED:20230416T001033Z
UID:5496-1689548400-1690498799@www.newhope.us
SUMMARY:뉴홉키즈 여름 캠프 / New Hope Kids Summer Camp
DESCRIPTION:
URL:https://www.newhope.us/event/%eb%89%b4%ed%99%89%ed%82%a4%ec%a6%88-%ec%97%ac%eb%a6%84-%ec%ba%a0%ed%94%84-new-hope-kids-summer-camp/
LOCATION:New Hope Church\, 6301 Stevens Forest Rd.\, Columbia\, MD\, 21046\, United States
CATEGORIES:여름 행사 / Summer
END:VEVENT
BEGIN:VEVENT
DTSTART;VALUE=DATE:20230626
DTEND;VALUE=DATE:20230728
DTSTAMP:20260425T103527
CREATED:20230415T235128Z
LAST-MODIFIED:20230415T235128Z
UID:5494-1687820400-1690498799@www.newhope.us
SUMMARY:학생부 여름 캠프 / Youth Summer Camp
DESCRIPTION:
URL:https://www.newhope.us/event/%ed%95%99%ec%83%9d%eb%b6%80-%ec%97%ac%eb%a6%84-%ec%ba%a0%ed%94%84-youth-summer-camp/
LOCATION:New Hope Church\, 6301 Stevens Forest Rd.\, Columbia\, MD\, 21046\, United States
CATEGORIES:여름 행사 / Summer
END:VEVENT
END:VCALENDAR