BEGIN:VCALENDAR
VERSION:2.0
PRODID:-//New Hope Church - ECPv6.15.20//NONSGML v1.0//EN
CALSCALE:GREGORIAN
METHOD:PUBLISH
X-ORIGINAL-URL:https://www.newhope.us
X-WR-CALDESC:Events for New Hope Church
REFRESH-INTERVAL;VALUE=DURATION:PT1H
X-Robots-Tag:noindex
X-PUBLISHED-TTL:PT1H
BEGIN:VTIMEZONE
TZID:America/New_York
BEGIN:DAYLIGHT
TZOFFSETFROM:-0500
TZOFFSETTO:-0400
TZNAME:EDT
DTSTART:20230312T070000
END:DAYLIGHT
BEGIN:STANDARD
TZOFFSETFROM:-0400
TZOFFSETTO:-0500
TZNAME:EST
DTSTART:20231105T060000
END:STANDARD
BEGIN:DAYLIGHT
TZOFFSETFROM:-0500
TZOFFSETTO:-0400
TZNAME:EDT
DTSTART:20240310T070000
END:DAYLIGHT
BEGIN:STANDARD
TZOFFSETFROM:-0400
TZOFFSETTO:-0500
TZNAME:EST
DTSTART:20241103T060000
END:STANDARD
BEGIN:DAYLIGHT
TZOFFSETFROM:-0500
TZOFFSETTO:-0400
TZNAME:EDT
DTSTART:20250309T070000
END:DAYLIGHT
BEGIN:STANDARD
TZOFFSETFROM:-0400
TZOFFSETTO:-0500
TZNAME:EST
DTSTART:20251102T060000
END:STANDARD
BEGIN:DAYLIGHT
TZOFFSETFROM:-0500
TZOFFSETTO:-0400
TZNAME:EDT
DTSTART:20260308T070000
END:DAYLIGHT
BEGIN:STANDARD
TZOFFSETFROM:-0400
TZOFFSETTO:-0500
TZNAME:EST
DTSTART:20261101T060000
END:STANDARD
END:VTIMEZONE
BEGIN:VEVENT
DTSTART;TZID=America/New_York:20250607T093000
DTEND;TZID=America/New_York:20250607T123000
DTSTAMP:20260425T184040
CREATED:20240902T220001Z
LAST-MODIFIED:20240902T220001Z
UID:8928-1749288600-1749299400@www.newhope.us
SUMMARY:한글학교 / Korean School
DESCRIPTION:
URL:https://www.newhope.us/event/%ed%95%9c%ea%b8%80%ed%95%99%ea%b5%90-korean-school-3/2025-06-07/
LOCATION:New Hope Church\, 6301 Stevens Forest Rd.\, Columbia\, MD\, 21046\, United States
CATEGORIES:한글학교 / Korean School
END:VEVENT
BEGIN:VEVENT
DTSTART;TZID=America/New_York:20250531T093000
DTEND;TZID=America/New_York:20250531T123000
DTSTAMP:20260425T184040
CREATED:20240902T220001Z
LAST-MODIFIED:20240902T220001Z
UID:8927-1748683800-1748694600@www.newhope.us
SUMMARY:한글학교 / Korean School
DESCRIPTION:
URL:https://www.newhope.us/event/%ed%95%9c%ea%b8%80%ed%95%99%ea%b5%90-korean-school-3/2025-05-31/
LOCATION:New Hope Church\, 6301 Stevens Forest Rd.\, Columbia\, MD\, 21046\, United States
CATEGORIES:한글학교 / Korean School
END:VEVENT
BEGIN:VEVENT
DTSTART;TZID=America/New_York:20250517T093000
DTEND;TZID=America/New_York:20250517T123000
DTSTAMP:20260425T184040
CREATED:20240902T220001Z
LAST-MODIFIED:20240902T220001Z
UID:8926-1747474200-1747485000@www.newhope.us
SUMMARY:한글학교 / Korean School
DESCRIPTION:
URL:https://www.newhope.us/event/%ed%95%9c%ea%b8%80%ed%95%99%ea%b5%90-korean-school-3/2025-05-17/
LOCATION:New Hope Church\, 6301 Stevens Forest Rd.\, Columbia\, MD\, 21046\, United States
CATEGORIES:한글학교 / Korean School
END:VEVENT
BEGIN:VEVENT
DTSTART;TZID=America/New_York:20250510T093000
DTEND;TZID=America/New_York:20250510T123000
DTSTAMP:20260425T184040
CREATED:20240902T220001Z
LAST-MODIFIED:20240902T220001Z
UID:8925-1746869400-1746880200@www.newhope.us
SUMMARY:한글학교 / Korean School
DESCRIPTION:
URL:https://www.newhope.us/event/%ed%95%9c%ea%b8%80%ed%95%99%ea%b5%90-korean-school-3/2025-05-10/
LOCATION:New Hope Church\, 6301 Stevens Forest Rd.\, Columbia\, MD\, 21046\, United States
CATEGORIES:한글학교 / Korean School
END:VEVENT
BEGIN:VEVENT
DTSTART;TZID=America/New_York:20250503T093000
DTEND;TZID=America/New_York:20250503T123000
DTSTAMP:20260425T184040
CREATED:20240902T220001Z
LAST-MODIFIED:20240902T220001Z
UID:8924-1746264600-1746275400@www.newhope.us
SUMMARY:한글학교 / Korean School
DESCRIPTION:
URL:https://www.newhope.us/event/%ed%95%9c%ea%b8%80%ed%95%99%ea%b5%90-korean-school-3/2025-05-03/
LOCATION:New Hope Church\, 6301 Stevens Forest Rd.\, Columbia\, MD\, 21046\, United States
CATEGORIES:한글학교 / Korean School
END:VEVENT
BEGIN:VEVENT
DTSTART;TZID=America/New_York:20250426T093000
DTEND;TZID=America/New_York:20250426T123000
DTSTAMP:20260425T184040
CREATED:20240902T220001Z
LAST-MODIFIED:20240902T220001Z
UID:8923-1745659800-1745670600@www.newhope.us
SUMMARY:한글학교 / Korean School
DESCRIPTION:
URL:https://www.newhope.us/event/%ed%95%9c%ea%b8%80%ed%95%99%ea%b5%90-korean-school-3/2025-04-26/
LOCATION:New Hope Church\, 6301 Stevens Forest Rd.\, Columbia\, MD\, 21046\, United States
CATEGORIES:한글학교 / Korean School
END:VEVENT
BEGIN:VEVENT
DTSTART;TZID=America/New_York:20250405T093000
DTEND;TZID=America/New_York:20250405T123000
DTSTAMP:20260425T184040
CREATED:20240902T220001Z
LAST-MODIFIED:20240902T220001Z
UID:8922-1743845400-1743856200@www.newhope.us
SUMMARY:한글학교 / Korean School
DESCRIPTION:
URL:https://www.newhope.us/event/%ed%95%9c%ea%b8%80%ed%95%99%ea%b5%90-korean-school-3/2025-04-05/
LOCATION:New Hope Church\, 6301 Stevens Forest Rd.\, Columbia\, MD\, 21046\, United States
CATEGORIES:한글학교 / Korean School
END:VEVENT
BEGIN:VEVENT
DTSTART;TZID=America/New_York:20250329T093000
DTEND;TZID=America/New_York:20250329T123000
DTSTAMP:20260425T184040
CREATED:20240902T220001Z
LAST-MODIFIED:20240902T220001Z
UID:8921-1743240600-1743251400@www.newhope.us
SUMMARY:한글학교 / Korean School
DESCRIPTION:
URL:https://www.newhope.us/event/%ed%95%9c%ea%b8%80%ed%95%99%ea%b5%90-korean-school-3/2025-03-29/
LOCATION:New Hope Church\, 6301 Stevens Forest Rd.\, Columbia\, MD\, 21046\, United States
CATEGORIES:한글학교 / Korean School
END:VEVENT
BEGIN:VEVENT
DTSTART;TZID=America/New_York:20250322T093000
DTEND;TZID=America/New_York:20250322T123000
DTSTAMP:20260425T184040
CREATED:20240902T220001Z
LAST-MODIFIED:20240902T220001Z
UID:8920-1742635800-1742646600@www.newhope.us
SUMMARY:한글학교 / Korean School
DESCRIPTION:
URL:https://www.newhope.us/event/%ed%95%9c%ea%b8%80%ed%95%99%ea%b5%90-korean-school-3/2025-03-22/
LOCATION:New Hope Church\, 6301 Stevens Forest Rd.\, Columbia\, MD\, 21046\, United States
CATEGORIES:한글학교 / Korean School
END:VEVENT
BEGIN:VEVENT
DTSTART;TZID=America/New_York:20250315T093000
DTEND;TZID=America/New_York:20250315T123000
DTSTAMP:20260425T184040
CREATED:20240902T220001Z
LAST-MODIFIED:20240902T220001Z
UID:8919-1742031000-1742041800@www.newhope.us
SUMMARY:한글학교 / Korean School
DESCRIPTION:
URL:https://www.newhope.us/event/%ed%95%9c%ea%b8%80%ed%95%99%ea%b5%90-korean-school-3/2025-03-15/
LOCATION:New Hope Church\, 6301 Stevens Forest Rd.\, Columbia\, MD\, 21046\, United States
CATEGORIES:한글학교 / Korean School
END:VEVENT
BEGIN:VEVENT
DTSTART;TZID=America/New_York:20250308T093000
DTEND;TZID=America/New_York:20250308T123000
DTSTAMP:20260425T184040
CREATED:20240902T220001Z
LAST-MODIFIED:20240902T220001Z
UID:8918-1741426200-1741437000@www.newhope.us
SUMMARY:한글학교 / Korean School
DESCRIPTION:
URL:https://www.newhope.us/event/%ed%95%9c%ea%b8%80%ed%95%99%ea%b5%90-korean-school-3/2025-03-08/
LOCATION:New Hope Church\, 6301 Stevens Forest Rd.\, Columbia\, MD\, 21046\, United States
CATEGORIES:한글학교 / Korean School
END:VEVENT
BEGIN:VEVENT
DTSTART;TZID=America/New_York:20250301T093000
DTEND;TZID=America/New_York:20250301T123000
DTSTAMP:20260425T184040
CREATED:20240902T220001Z
LAST-MODIFIED:20240902T220001Z
UID:8917-1740821400-1740832200@www.newhope.us
SUMMARY:한글학교 / Korean School
DESCRIPTION:
URL:https://www.newhope.us/event/%ed%95%9c%ea%b8%80%ed%95%99%ea%b5%90-korean-school-3/2025-03-01/
LOCATION:New Hope Church\, 6301 Stevens Forest Rd.\, Columbia\, MD\, 21046\, United States
CATEGORIES:한글학교 / Korean School
END:VEVENT
BEGIN:VEVENT
DTSTART;TZID=America/New_York:20250222T093000
DTEND;TZID=America/New_York:20250222T123000
DTSTAMP:20260425T184040
CREATED:20240902T220001Z
LAST-MODIFIED:20240902T220001Z
UID:8916-1740216600-1740227400@www.newhope.us
SUMMARY:한글학교 / Korean School
DESCRIPTION:
URL:https://www.newhope.us/event/%ed%95%9c%ea%b8%80%ed%95%99%ea%b5%90-korean-school-3/2025-02-22/
LOCATION:New Hope Church\, 6301 Stevens Forest Rd.\, Columbia\, MD\, 21046\, United States
CATEGORIES:한글학교 / Korean School
END:VEVENT
BEGIN:VEVENT
DTSTART;TZID=America/New_York:20250215T093000
DTEND;TZID=America/New_York:20250215T123000
DTSTAMP:20260425T184040
CREATED:20240902T220001Z
LAST-MODIFIED:20240902T220001Z
UID:8915-1739611800-1739622600@www.newhope.us
SUMMARY:한글학교 / Korean School
DESCRIPTION:
URL:https://www.newhope.us/event/%ed%95%9c%ea%b8%80%ed%95%99%ea%b5%90-korean-school-3/2025-02-15/
LOCATION:New Hope Church\, 6301 Stevens Forest Rd.\, Columbia\, MD\, 21046\, United States
CATEGORIES:한글학교 / Korean School
END:VEVENT
BEGIN:VEVENT
DTSTART;TZID=America/New_York:20250208T093000
DTEND;TZID=America/New_York:20250208T123000
DTSTAMP:20260425T184040
CREATED:20240902T220001Z
LAST-MODIFIED:20240902T220001Z
UID:8914-1739007000-1739017800@www.newhope.us
SUMMARY:한글학교 / Korean School
DESCRIPTION:
URL:https://www.newhope.us/event/%ed%95%9c%ea%b8%80%ed%95%99%ea%b5%90-korean-school-3/2025-02-08/
LOCATION:New Hope Church\, 6301 Stevens Forest Rd.\, Columbia\, MD\, 21046\, United States
CATEGORIES:한글학교 / Korean School
END:VEVENT
BEGIN:VEVENT
DTSTART;TZID=America/New_York:20250201T093000
DTEND;TZID=America/New_York:20250201T123000
DTSTAMP:20260425T184040
CREATED:20240902T220001Z
LAST-MODIFIED:20240902T220001Z
UID:8913-1738402200-1738413000@www.newhope.us
SUMMARY:한글학교 / Korean School
DESCRIPTION:
URL:https://www.newhope.us/event/%ed%95%9c%ea%b8%80%ed%95%99%ea%b5%90-korean-school-3/2025-02-01/
LOCATION:New Hope Church\, 6301 Stevens Forest Rd.\, Columbia\, MD\, 21046\, United States
CATEGORIES:한글학교 / Korean School
END:VEVENT
BEGIN:VEVENT
DTSTART;TZID=America/New_York:20250118T093000
DTEND;TZID=America/New_York:20250118T123000
DTSTAMP:20260425T184040
CREATED:20240902T220001Z
LAST-MODIFIED:20240902T220001Z
UID:8912-1737192600-1737203400@www.newhope.us
SUMMARY:한글학교 / Korean School
DESCRIPTION:
URL:https://www.newhope.us/event/%ed%95%9c%ea%b8%80%ed%95%99%ea%b5%90-korean-school-3/2025-01-18/
LOCATION:New Hope Church\, 6301 Stevens Forest Rd.\, Columbia\, MD\, 21046\, United States
CATEGORIES:한글학교 / Korean School
END:VEVENT
BEGIN:VEVENT
DTSTART;TZID=America/New_York:20250111T093000
DTEND;TZID=America/New_York:20250111T123000
DTSTAMP:20260425T184040
CREATED:20240902T220001Z
LAST-MODIFIED:20240902T220001Z
UID:8911-1736587800-1736598600@www.newhope.us
SUMMARY:한글학교 / Korean School
DESCRIPTION:
URL:https://www.newhope.us/event/%ed%95%9c%ea%b8%80%ed%95%99%ea%b5%90-korean-school-3/2025-01-11/
LOCATION:New Hope Church\, 6301 Stevens Forest Rd.\, Columbia\, MD\, 21046\, United States
CATEGORIES:한글학교 / Korean School
END:VEVENT
BEGIN:VEVENT
DTSTART;TZID=America/New_York:20250104T093000
DTEND;TZID=America/New_York:20250104T123000
DTSTAMP:20260425T184040
CREATED:20240902T220001Z
LAST-MODIFIED:20240902T220001Z
UID:8910-1735983000-1735993800@www.newhope.us
SUMMARY:한글학교 / Korean School
DESCRIPTION:
URL:https://www.newhope.us/event/%ed%95%9c%ea%b8%80%ed%95%99%ea%b5%90-korean-school-3/2025-01-04/
LOCATION:New Hope Church\, 6301 Stevens Forest Rd.\, Columbia\, MD\, 21046\, United States
CATEGORIES:한글학교 / Korean School
END:VEVENT
BEGIN:VEVENT
DTSTART;TZID=America/New_York:20241214T093000
DTEND;TZID=America/New_York:20241214T123000
DTSTAMP:20260425T184040
CREATED:20240902T220001Z
LAST-MODIFIED:20240902T220001Z
UID:8909-1734168600-1734179400@www.newhope.us
SUMMARY:한글학교 / Korean School
DESCRIPTION:
URL:https://www.newhope.us/event/%ed%95%9c%ea%b8%80%ed%95%99%ea%b5%90-korean-school-3/2024-12-14/
LOCATION:New Hope Church\, 6301 Stevens Forest Rd.\, Columbia\, MD\, 21046\, United States
CATEGORIES:한글학교 / Korean School
END:VEVENT
BEGIN:VEVENT
DTSTART;TZID=America/New_York:20241207T093000
DTEND;TZID=America/New_York:20241207T123000
DTSTAMP:20260425T184040
CREATED:20240902T220001Z
LAST-MODIFIED:20240902T220001Z
UID:8908-1733563800-1733574600@www.newhope.us
SUMMARY:한글학교 / Korean School
DESCRIPTION:
URL:https://www.newhope.us/event/%ed%95%9c%ea%b8%80%ed%95%99%ea%b5%90-korean-school-3/2024-12-07/
LOCATION:New Hope Church\, 6301 Stevens Forest Rd.\, Columbia\, MD\, 21046\, United States
CATEGORIES:한글학교 / Korean School
END:VEVENT
BEGIN:VEVENT
DTSTART;TZID=America/New_York:20241123T093000
DTEND;TZID=America/New_York:20241123T123000
DTSTAMP:20260425T184040
CREATED:20240902T220001Z
LAST-MODIFIED:20240902T220001Z
UID:8907-1732354200-1732365000@www.newhope.us
SUMMARY:한글학교 / Korean School
DESCRIPTION:
URL:https://www.newhope.us/event/%ed%95%9c%ea%b8%80%ed%95%99%ea%b5%90-korean-school-3/2024-11-23/
LOCATION:New Hope Church\, 6301 Stevens Forest Rd.\, Columbia\, MD\, 21046\, United States
CATEGORIES:한글학교 / Korean School
END:VEVENT
BEGIN:VEVENT
DTSTART;TZID=America/New_York:20241116T093000
DTEND;TZID=America/New_York:20241116T123000
DTSTAMP:20260425T184040
CREATED:20240902T220001Z
LAST-MODIFIED:20240902T220001Z
UID:8906-1731749400-1731760200@www.newhope.us
SUMMARY:한글학교 / Korean School
DESCRIPTION:
URL:https://www.newhope.us/event/%ed%95%9c%ea%b8%80%ed%95%99%ea%b5%90-korean-school-3/2024-11-16/
LOCATION:New Hope Church\, 6301 Stevens Forest Rd.\, Columbia\, MD\, 21046\, United States
CATEGORIES:한글학교 / Korean School
END:VEVENT
BEGIN:VEVENT
DTSTART;TZID=America/New_York:20241109T093000
DTEND;TZID=America/New_York:20241109T123000
DTSTAMP:20260425T184040
CREATED:20240902T220001Z
LAST-MODIFIED:20240902T220001Z
UID:8905-1731144600-1731155400@www.newhope.us
SUMMARY:한글학교 / Korean School
DESCRIPTION:
URL:https://www.newhope.us/event/%ed%95%9c%ea%b8%80%ed%95%99%ea%b5%90-korean-school-3/2024-11-09/
LOCATION:New Hope Church\, 6301 Stevens Forest Rd.\, Columbia\, MD\, 21046\, United States
CATEGORIES:한글학교 / Korean School
END:VEVENT
BEGIN:VEVENT
DTSTART;TZID=America/New_York:20241102T093000
DTEND;TZID=America/New_York:20241102T123000
DTSTAMP:20260425T184040
CREATED:20240902T220001Z
LAST-MODIFIED:20240902T220001Z
UID:8904-1730539800-1730550600@www.newhope.us
SUMMARY:한글학교 / Korean School
DESCRIPTION:
URL:https://www.newhope.us/event/%ed%95%9c%ea%b8%80%ed%95%99%ea%b5%90-korean-school-3/2024-11-02/
LOCATION:New Hope Church\, 6301 Stevens Forest Rd.\, Columbia\, MD\, 21046\, United States
CATEGORIES:한글학교 / Korean School
END:VEVENT
BEGIN:VEVENT
DTSTART;TZID=America/New_York:20241026T093000
DTEND;TZID=America/New_York:20241026T123000
DTSTAMP:20260425T184040
CREATED:20240902T220001Z
LAST-MODIFIED:20240902T220001Z
UID:8903-1729935000-1729945800@www.newhope.us
SUMMARY:한글학교 / Korean School
DESCRIPTION:
URL:https://www.newhope.us/event/%ed%95%9c%ea%b8%80%ed%95%99%ea%b5%90-korean-school-3/2024-10-26/
LOCATION:New Hope Church\, 6301 Stevens Forest Rd.\, Columbia\, MD\, 21046\, United States
CATEGORIES:한글학교 / Korean School
END:VEVENT
BEGIN:VEVENT
DTSTART;TZID=America/New_York:20241019T093000
DTEND;TZID=America/New_York:20241019T123000
DTSTAMP:20260425T184040
CREATED:20240902T220001Z
LAST-MODIFIED:20240902T220001Z
UID:8902-1729330200-1729341000@www.newhope.us
SUMMARY:한글학교 / Korean School
DESCRIPTION:
URL:https://www.newhope.us/event/%ed%95%9c%ea%b8%80%ed%95%99%ea%b5%90-korean-school-3/2024-10-19/
LOCATION:New Hope Church\, 6301 Stevens Forest Rd.\, Columbia\, MD\, 21046\, United States
CATEGORIES:한글학교 / Korean School
END:VEVENT
BEGIN:VEVENT
DTSTART;TZID=America/New_York:20241012T093000
DTEND;TZID=America/New_York:20241012T123000
DTSTAMP:20260425T184040
CREATED:20240902T220001Z
LAST-MODIFIED:20240902T220001Z
UID:8901-1728725400-1728736200@www.newhope.us
SUMMARY:한글학교 / Korean School
DESCRIPTION:
URL:https://www.newhope.us/event/%ed%95%9c%ea%b8%80%ed%95%99%ea%b5%90-korean-school-3/2024-10-12/
LOCATION:New Hope Church\, 6301 Stevens Forest Rd.\, Columbia\, MD\, 21046\, United States
CATEGORIES:한글학교 / Korean School
END:VEVENT
BEGIN:VEVENT
DTSTART;TZID=America/New_York:20241005T093000
DTEND;TZID=America/New_York:20241005T123000
DTSTAMP:20260425T184040
CREATED:20240902T220001Z
LAST-MODIFIED:20240902T220001Z
UID:8900-1728120600-1728131400@www.newhope.us
SUMMARY:한글학교 / Korean School
DESCRIPTION:
URL:https://www.newhope.us/event/%ed%95%9c%ea%b8%80%ed%95%99%ea%b5%90-korean-school-3/2024-10-05/
LOCATION:New Hope Church\, 6301 Stevens Forest Rd.\, Columbia\, MD\, 21046\, United States
CATEGORIES:한글학교 / Korean School
END:VEVENT
BEGIN:VEVENT
DTSTART;TZID=America/New_York:20240928T093000
DTEND;TZID=America/New_York:20240928T123000
DTSTAMP:20260425T184040
CREATED:20240902T220001Z
LAST-MODIFIED:20240902T220001Z
UID:8899-1727515800-1727526600@www.newhope.us
SUMMARY:한글학교 / Korean School
DESCRIPTION:
URL:https://www.newhope.us/event/%ed%95%9c%ea%b8%80%ed%95%99%ea%b5%90-korean-school-3/2024-09-28/
LOCATION:New Hope Church\, 6301 Stevens Forest Rd.\, Columbia\, MD\, 21046\, United States
CATEGORIES:한글학교 / Korean School
END:VEVENT
END:VCALENDAR