BEGIN:VCALENDAR
VERSION:2.0
PRODID:-//New Hope Church - ECPv6.15.20//NONSGML v1.0//EN
CALSCALE:GREGORIAN
METHOD:PUBLISH
X-WR-CALNAME:New Hope Church
X-ORIGINAL-URL:https://www.newhope.us
X-WR-CALDESC:Events for New Hope Church
REFRESH-INTERVAL;VALUE=DURATION:PT1H
X-Robots-Tag:noindex
X-PUBLISHED-TTL:PT1H
BEGIN:VTIMEZONE
TZID:America/New_York
BEGIN:DAYLIGHT
TZOFFSETFROM:-0500
TZOFFSETTO:-0400
TZNAME:EDT
DTSTART:20230312T070000
END:DAYLIGHT
BEGIN:STANDARD
TZOFFSETFROM:-0400
TZOFFSETTO:-0500
TZNAME:EST
DTSTART:20231105T060000
END:STANDARD
BEGIN:DAYLIGHT
TZOFFSETFROM:-0500
TZOFFSETTO:-0400
TZNAME:EDT
DTSTART:20240310T070000
END:DAYLIGHT
BEGIN:STANDARD
TZOFFSETFROM:-0400
TZOFFSETTO:-0500
TZNAME:EST
DTSTART:20241103T060000
END:STANDARD
BEGIN:DAYLIGHT
TZOFFSETFROM:-0500
TZOFFSETTO:-0400
TZNAME:EDT
DTSTART:20250309T070000
END:DAYLIGHT
BEGIN:STANDARD
TZOFFSETFROM:-0400
TZOFFSETTO:-0500
TZNAME:EST
DTSTART:20251102T060000
END:STANDARD
END:VTIMEZONE
BEGIN:VEVENT
DTSTART;TZID=America/New_York:20240214T053000
DTEND;TZID=America/New_York:20240214T053000
DTSTAMP:20260424T212306
CREATED:20240208T012330Z
LAST-MODIFIED:20240229T012736Z
UID:7463-1707888600-1707888600@www.newhope.us
SUMMARY:사순절 특별 새벽기도회 // 40 Days of Lent Early Morning Prayer
DESCRIPTION:
URL:https://www.newhope.us/event/%ec%82%ac%ec%88%9c%ec%a0%88-%ed%8a%b9%eb%b3%84-%ec%83%88%eb%b2%bd%ea%b8%b0%eb%8f%84%ed%9a%8c-40-days-of-lent-early-morning-prayer-2/2024-02-14/
LOCATION:New Hope Church\, 6301 Stevens Forest Rd.\, Columbia\, MD\, 21046\, United States
END:VEVENT
END:VCALENDAR