BEGIN:VCALENDAR
VERSION:2.0
PRODID:-//New Hope Church - ECPv6.15.20//NONSGML v1.0//EN
CALSCALE:GREGORIAN
METHOD:PUBLISH
X-ORIGINAL-URL:https://www.newhope.us
X-WR-CALDESC:Events for New Hope Church
REFRESH-INTERVAL;VALUE=DURATION:PT1H
X-Robots-Tag:noindex
X-PUBLISHED-TTL:PT1H
BEGIN:VTIMEZONE
TZID:America/New_York
BEGIN:DAYLIGHT
TZOFFSETFROM:-0500
TZOFFSETTO:-0400
TZNAME:EDT
DTSTART:20240310T070000
END:DAYLIGHT
BEGIN:STANDARD
TZOFFSETFROM:-0400
TZOFFSETTO:-0500
TZNAME:EST
DTSTART:20241103T060000
END:STANDARD
BEGIN:DAYLIGHT
TZOFFSETFROM:-0500
TZOFFSETTO:-0400
TZNAME:EDT
DTSTART:20250309T070000
END:DAYLIGHT
BEGIN:STANDARD
TZOFFSETFROM:-0400
TZOFFSETTO:-0500
TZNAME:EST
DTSTART:20251102T060000
END:STANDARD
BEGIN:DAYLIGHT
TZOFFSETFROM:-0500
TZOFFSETTO:-0400
TZNAME:EDT
DTSTART:20260308T070000
END:DAYLIGHT
BEGIN:STANDARD
TZOFFSETFROM:-0400
TZOFFSETTO:-0500
TZNAME:EST
DTSTART:20261101T060000
END:STANDARD
END:VTIMEZONE
BEGIN:VEVENT
DTSTART;TZID=America/New_York:20250418T053000
DTEND;TZID=America/New_York:20250418T053000
DTSTAMP:20260425T091854
CREATED:20250228T031859Z
LAST-MODIFIED:20250228T031859Z
UID:9909-1744954200-1744954200@www.newhope.us
SUMMARY:사순절 특별 새벽기도회 // 40 Days of Lenten Early Morning Prayer
DESCRIPTION:
URL:https://www.newhope.us/event/lenten-early-morning-prayer_2025/2025-04-18/
LOCATION:New Hope Church\, 6301 Stevens Forest Rd.\, Columbia\, MD\, 21046\, United States
END:VEVENT
BEGIN:VEVENT
DTSTART;TZID=America/New_York:20250417T053000
DTEND;TZID=America/New_York:20250417T053000
DTSTAMP:20260425T091854
CREATED:20250228T031859Z
LAST-MODIFIED:20250228T031859Z
UID:9908-1744867800-1744867800@www.newhope.us
SUMMARY:사순절 특별 새벽기도회 // 40 Days of Lenten Early Morning Prayer
DESCRIPTION:
URL:https://www.newhope.us/event/lenten-early-morning-prayer_2025/2025-04-17/
LOCATION:New Hope Church\, 6301 Stevens Forest Rd.\, Columbia\, MD\, 21046\, United States
END:VEVENT
BEGIN:VEVENT
DTSTART;TZID=America/New_York:20250416T053000
DTEND;TZID=America/New_York:20250416T053000
DTSTAMP:20260425T091854
CREATED:20250228T031859Z
LAST-MODIFIED:20250228T031859Z
UID:9907-1744781400-1744781400@www.newhope.us
SUMMARY:사순절 특별 새벽기도회 // 40 Days of Lenten Early Morning Prayer
DESCRIPTION:
URL:https://www.newhope.us/event/lenten-early-morning-prayer_2025/2025-04-16/
LOCATION:New Hope Church\, 6301 Stevens Forest Rd.\, Columbia\, MD\, 21046\, United States
END:VEVENT
BEGIN:VEVENT
DTSTART;TZID=America/New_York:20250415T053000
DTEND;TZID=America/New_York:20250415T053000
DTSTAMP:20260425T091854
CREATED:20250228T031859Z
LAST-MODIFIED:20250228T031859Z
UID:9906-1744695000-1744695000@www.newhope.us
SUMMARY:사순절 특별 새벽기도회 // 40 Days of Lenten Early Morning Prayer
DESCRIPTION:
URL:https://www.newhope.us/event/lenten-early-morning-prayer_2025/2025-04-15/
LOCATION:New Hope Church\, 6301 Stevens Forest Rd.\, Columbia\, MD\, 21046\, United States
END:VEVENT
BEGIN:VEVENT
DTSTART;TZID=America/New_York:20250414T053000
DTEND;TZID=America/New_York:20250414T053000
DTSTAMP:20260425T091854
CREATED:20250228T031859Z
LAST-MODIFIED:20250228T031859Z
UID:9905-1744608600-1744608600@www.newhope.us
SUMMARY:사순절 특별 새벽기도회 // 40 Days of Lenten Early Morning Prayer
DESCRIPTION:
URL:https://www.newhope.us/event/lenten-early-morning-prayer_2025/2025-04-14/
LOCATION:New Hope Church\, 6301 Stevens Forest Rd.\, Columbia\, MD\, 21046\, United States
END:VEVENT
BEGIN:VEVENT
DTSTART;TZID=America/New_York:20250413T053000
DTEND;TZID=America/New_York:20250413T053000
DTSTAMP:20260425T091854
CREATED:20250228T031859Z
LAST-MODIFIED:20250228T031859Z
UID:9904-1744522200-1744522200@www.newhope.us
SUMMARY:사순절 특별 새벽기도회 // 40 Days of Lenten Early Morning Prayer
DESCRIPTION:
URL:https://www.newhope.us/event/lenten-early-morning-prayer_2025/2025-04-13/
LOCATION:New Hope Church\, 6301 Stevens Forest Rd.\, Columbia\, MD\, 21046\, United States
END:VEVENT
BEGIN:VEVENT
DTSTART;TZID=America/New_York:20250411T053000
DTEND;TZID=America/New_York:20250411T053000
DTSTAMP:20260425T091854
CREATED:20250228T031859Z
LAST-MODIFIED:20250228T031859Z
UID:9903-1744349400-1744349400@www.newhope.us
SUMMARY:사순절 특별 새벽기도회 // 40 Days of Lenten Early Morning Prayer
DESCRIPTION:
URL:https://www.newhope.us/event/lenten-early-morning-prayer_2025/2025-04-11/
LOCATION:New Hope Church\, 6301 Stevens Forest Rd.\, Columbia\, MD\, 21046\, United States
END:VEVENT
BEGIN:VEVENT
DTSTART;TZID=America/New_York:20250410T053000
DTEND;TZID=America/New_York:20250410T053000
DTSTAMP:20260425T091854
CREATED:20250228T031859Z
LAST-MODIFIED:20250228T031859Z
UID:9902-1744263000-1744263000@www.newhope.us
SUMMARY:사순절 특별 새벽기도회 // 40 Days of Lenten Early Morning Prayer
DESCRIPTION:
URL:https://www.newhope.us/event/lenten-early-morning-prayer_2025/2025-04-10/
LOCATION:New Hope Church\, 6301 Stevens Forest Rd.\, Columbia\, MD\, 21046\, United States
END:VEVENT
BEGIN:VEVENT
DTSTART;TZID=America/New_York:20250409T053000
DTEND;TZID=America/New_York:20250409T053000
DTSTAMP:20260425T091854
CREATED:20250228T031859Z
LAST-MODIFIED:20250228T031859Z
UID:9901-1744176600-1744176600@www.newhope.us
SUMMARY:사순절 특별 새벽기도회 // 40 Days of Lenten Early Morning Prayer
DESCRIPTION:
URL:https://www.newhope.us/event/lenten-early-morning-prayer_2025/2025-04-09/
LOCATION:New Hope Church\, 6301 Stevens Forest Rd.\, Columbia\, MD\, 21046\, United States
END:VEVENT
BEGIN:VEVENT
DTSTART;TZID=America/New_York:20250408T053000
DTEND;TZID=America/New_York:20250408T053000
DTSTAMP:20260425T091854
CREATED:20250228T031859Z
LAST-MODIFIED:20250228T031859Z
UID:9900-1744090200-1744090200@www.newhope.us
SUMMARY:사순절 특별 새벽기도회 // 40 Days of Lenten Early Morning Prayer
DESCRIPTION:
URL:https://www.newhope.us/event/lenten-early-morning-prayer_2025/2025-04-08/
LOCATION:New Hope Church\, 6301 Stevens Forest Rd.\, Columbia\, MD\, 21046\, United States
END:VEVENT
BEGIN:VEVENT
DTSTART;TZID=America/New_York:20250407T053000
DTEND;TZID=America/New_York:20250407T053000
DTSTAMP:20260425T091854
CREATED:20250228T031859Z
LAST-MODIFIED:20250228T031859Z
UID:9899-1744003800-1744003800@www.newhope.us
SUMMARY:사순절 특별 새벽기도회 // 40 Days of Lenten Early Morning Prayer
DESCRIPTION:
URL:https://www.newhope.us/event/lenten-early-morning-prayer_2025/2025-04-07/
LOCATION:New Hope Church\, 6301 Stevens Forest Rd.\, Columbia\, MD\, 21046\, United States
END:VEVENT
BEGIN:VEVENT
DTSTART;TZID=America/New_York:20250406T053000
DTEND;TZID=America/New_York:20250406T053000
DTSTAMP:20260425T091854
CREATED:20250228T031859Z
LAST-MODIFIED:20250228T031859Z
UID:9898-1743917400-1743917400@www.newhope.us
SUMMARY:사순절 특별 새벽기도회 // 40 Days of Lenten Early Morning Prayer
DESCRIPTION:
URL:https://www.newhope.us/event/lenten-early-morning-prayer_2025/2025-04-06/
LOCATION:New Hope Church\, 6301 Stevens Forest Rd.\, Columbia\, MD\, 21046\, United States
END:VEVENT
BEGIN:VEVENT
DTSTART;TZID=America/New_York:20250404T053000
DTEND;TZID=America/New_York:20250404T053000
DTSTAMP:20260425T091854
CREATED:20250228T031859Z
LAST-MODIFIED:20250228T031859Z
UID:9897-1743744600-1743744600@www.newhope.us
SUMMARY:사순절 특별 새벽기도회 // 40 Days of Lenten Early Morning Prayer
DESCRIPTION:
URL:https://www.newhope.us/event/lenten-early-morning-prayer_2025/2025-04-04/
LOCATION:New Hope Church\, 6301 Stevens Forest Rd.\, Columbia\, MD\, 21046\, United States
END:VEVENT
BEGIN:VEVENT
DTSTART;TZID=America/New_York:20250403T053000
DTEND;TZID=America/New_York:20250403T053000
DTSTAMP:20260425T091854
CREATED:20250228T031859Z
LAST-MODIFIED:20250228T031859Z
UID:9896-1743658200-1743658200@www.newhope.us
SUMMARY:사순절 특별 새벽기도회 // 40 Days of Lenten Early Morning Prayer
DESCRIPTION:
URL:https://www.newhope.us/event/lenten-early-morning-prayer_2025/2025-04-03/
LOCATION:New Hope Church\, 6301 Stevens Forest Rd.\, Columbia\, MD\, 21046\, United States
END:VEVENT
BEGIN:VEVENT
DTSTART;TZID=America/New_York:20250402T053000
DTEND;TZID=America/New_York:20250402T053000
DTSTAMP:20260425T091854
CREATED:20250228T031859Z
LAST-MODIFIED:20250228T031859Z
UID:9895-1743571800-1743571800@www.newhope.us
SUMMARY:사순절 특별 새벽기도회 // 40 Days of Lenten Early Morning Prayer
DESCRIPTION:
URL:https://www.newhope.us/event/lenten-early-morning-prayer_2025/2025-04-02/
LOCATION:New Hope Church\, 6301 Stevens Forest Rd.\, Columbia\, MD\, 21046\, United States
END:VEVENT
BEGIN:VEVENT
DTSTART;TZID=America/New_York:20250401T053000
DTEND;TZID=America/New_York:20250401T053000
DTSTAMP:20260425T091854
CREATED:20250228T031859Z
LAST-MODIFIED:20250228T031859Z
UID:9894-1743485400-1743485400@www.newhope.us
SUMMARY:사순절 특별 새벽기도회 // 40 Days of Lenten Early Morning Prayer
DESCRIPTION:
URL:https://www.newhope.us/event/lenten-early-morning-prayer_2025/2025-04-01/
LOCATION:New Hope Church\, 6301 Stevens Forest Rd.\, Columbia\, MD\, 21046\, United States
END:VEVENT
BEGIN:VEVENT
DTSTART;TZID=America/New_York:20250331T053000
DTEND;TZID=America/New_York:20250331T053000
DTSTAMP:20260425T091854
CREATED:20250228T031859Z
LAST-MODIFIED:20250228T031859Z
UID:9893-1743399000-1743399000@www.newhope.us
SUMMARY:사순절 특별 새벽기도회 // 40 Days of Lenten Early Morning Prayer
DESCRIPTION:
URL:https://www.newhope.us/event/lenten-early-morning-prayer_2025/2025-03-31/
LOCATION:New Hope Church\, 6301 Stevens Forest Rd.\, Columbia\, MD\, 21046\, United States
END:VEVENT
BEGIN:VEVENT
DTSTART;TZID=America/New_York:20250330T053000
DTEND;TZID=America/New_York:20250330T053000
DTSTAMP:20260425T091854
CREATED:20250228T031859Z
LAST-MODIFIED:20250228T031859Z
UID:9892-1743312600-1743312600@www.newhope.us
SUMMARY:사순절 특별 새벽기도회 // 40 Days of Lenten Early Morning Prayer
DESCRIPTION:
URL:https://www.newhope.us/event/lenten-early-morning-prayer_2025/2025-03-30/
LOCATION:New Hope Church\, 6301 Stevens Forest Rd.\, Columbia\, MD\, 21046\, United States
END:VEVENT
BEGIN:VEVENT
DTSTART;TZID=America/New_York:20250328T053000
DTEND;TZID=America/New_York:20250328T053000
DTSTAMP:20260425T091854
CREATED:20250228T031859Z
LAST-MODIFIED:20250228T031859Z
UID:9891-1743139800-1743139800@www.newhope.us
SUMMARY:사순절 특별 새벽기도회 // 40 Days of Lenten Early Morning Prayer
DESCRIPTION:
URL:https://www.newhope.us/event/lenten-early-morning-prayer_2025/2025-03-28/
LOCATION:New Hope Church\, 6301 Stevens Forest Rd.\, Columbia\, MD\, 21046\, United States
END:VEVENT
BEGIN:VEVENT
DTSTART;TZID=America/New_York:20250327T053000
DTEND;TZID=America/New_York:20250327T053000
DTSTAMP:20260425T091854
CREATED:20250228T031859Z
LAST-MODIFIED:20250228T031859Z
UID:9890-1743053400-1743053400@www.newhope.us
SUMMARY:사순절 특별 새벽기도회 // 40 Days of Lenten Early Morning Prayer
DESCRIPTION:
URL:https://www.newhope.us/event/lenten-early-morning-prayer_2025/2025-03-27/
LOCATION:New Hope Church\, 6301 Stevens Forest Rd.\, Columbia\, MD\, 21046\, United States
END:VEVENT
BEGIN:VEVENT
DTSTART;TZID=America/New_York:20250326T053000
DTEND;TZID=America/New_York:20250326T053000
DTSTAMP:20260425T091854
CREATED:20250228T031859Z
LAST-MODIFIED:20250228T031859Z
UID:9889-1742967000-1742967000@www.newhope.us
SUMMARY:사순절 특별 새벽기도회 // 40 Days of Lenten Early Morning Prayer
DESCRIPTION:
URL:https://www.newhope.us/event/lenten-early-morning-prayer_2025/2025-03-26/
LOCATION:New Hope Church\, 6301 Stevens Forest Rd.\, Columbia\, MD\, 21046\, United States
END:VEVENT
BEGIN:VEVENT
DTSTART;TZID=America/New_York:20250325T053000
DTEND;TZID=America/New_York:20250325T053000
DTSTAMP:20260425T091854
CREATED:20250228T031859Z
LAST-MODIFIED:20250228T031859Z
UID:9888-1742880600-1742880600@www.newhope.us
SUMMARY:사순절 특별 새벽기도회 // 40 Days of Lenten Early Morning Prayer
DESCRIPTION:
URL:https://www.newhope.us/event/lenten-early-morning-prayer_2025/2025-03-25/
LOCATION:New Hope Church\, 6301 Stevens Forest Rd.\, Columbia\, MD\, 21046\, United States
END:VEVENT
BEGIN:VEVENT
DTSTART;TZID=America/New_York:20250324T053000
DTEND;TZID=America/New_York:20250324T053000
DTSTAMP:20260425T091854
CREATED:20250228T031859Z
LAST-MODIFIED:20250228T031859Z
UID:9887-1742794200-1742794200@www.newhope.us
SUMMARY:사순절 특별 새벽기도회 // 40 Days of Lenten Early Morning Prayer
DESCRIPTION:
URL:https://www.newhope.us/event/lenten-early-morning-prayer_2025/2025-03-24/
LOCATION:New Hope Church\, 6301 Stevens Forest Rd.\, Columbia\, MD\, 21046\, United States
END:VEVENT
BEGIN:VEVENT
DTSTART;TZID=America/New_York:20250323T053000
DTEND;TZID=America/New_York:20250323T053000
DTSTAMP:20260425T091854
CREATED:20250228T031859Z
LAST-MODIFIED:20250228T031859Z
UID:9886-1742707800-1742707800@www.newhope.us
SUMMARY:사순절 특별 새벽기도회 // 40 Days of Lenten Early Morning Prayer
DESCRIPTION:
URL:https://www.newhope.us/event/lenten-early-morning-prayer_2025/2025-03-23/
LOCATION:New Hope Church\, 6301 Stevens Forest Rd.\, Columbia\, MD\, 21046\, United States
END:VEVENT
BEGIN:VEVENT
DTSTART;TZID=America/New_York:20250322T053000
DTEND;TZID=America/New_York:20250322T053000
DTSTAMP:20260425T091854
CREATED:20250228T031859Z
LAST-MODIFIED:20250228T031859Z
UID:9885-1742621400-1742621400@www.newhope.us
SUMMARY:사순절 특별 새벽기도회 // 40 Days of Lenten Early Morning Prayer
DESCRIPTION:
URL:https://www.newhope.us/event/lenten-early-morning-prayer_2025/2025-03-22/
LOCATION:New Hope Church\, 6301 Stevens Forest Rd.\, Columbia\, MD\, 21046\, United States
END:VEVENT
BEGIN:VEVENT
DTSTART;TZID=America/New_York:20250321T053000
DTEND;TZID=America/New_York:20250321T053000
DTSTAMP:20260425T091854
CREATED:20250228T031859Z
LAST-MODIFIED:20250228T031859Z
UID:9884-1742535000-1742535000@www.newhope.us
SUMMARY:사순절 특별 새벽기도회 // 40 Days of Lenten Early Morning Prayer
DESCRIPTION:
URL:https://www.newhope.us/event/lenten-early-morning-prayer_2025/2025-03-21/
LOCATION:New Hope Church\, 6301 Stevens Forest Rd.\, Columbia\, MD\, 21046\, United States
END:VEVENT
BEGIN:VEVENT
DTSTART;TZID=America/New_York:20250320T053000
DTEND;TZID=America/New_York:20250320T053000
DTSTAMP:20260425T091854
CREATED:20250228T031859Z
LAST-MODIFIED:20250228T031859Z
UID:9883-1742448600-1742448600@www.newhope.us
SUMMARY:사순절 특별 새벽기도회 // 40 Days of Lenten Early Morning Prayer
DESCRIPTION:
URL:https://www.newhope.us/event/lenten-early-morning-prayer_2025/2025-03-20/
LOCATION:New Hope Church\, 6301 Stevens Forest Rd.\, Columbia\, MD\, 21046\, United States
END:VEVENT
BEGIN:VEVENT
DTSTART;TZID=America/New_York:20250319T053000
DTEND;TZID=America/New_York:20250319T053000
DTSTAMP:20260425T091854
CREATED:20250228T031859Z
LAST-MODIFIED:20250228T031859Z
UID:9882-1742362200-1742362200@www.newhope.us
SUMMARY:사순절 특별 새벽기도회 // 40 Days of Lenten Early Morning Prayer
DESCRIPTION:
URL:https://www.newhope.us/event/lenten-early-morning-prayer_2025/2025-03-19/
LOCATION:New Hope Church\, 6301 Stevens Forest Rd.\, Columbia\, MD\, 21046\, United States
END:VEVENT
BEGIN:VEVENT
DTSTART;TZID=America/New_York:20250318T053000
DTEND;TZID=America/New_York:20250318T053000
DTSTAMP:20260425T091854
CREATED:20250228T031859Z
LAST-MODIFIED:20250228T031859Z
UID:9881-1742275800-1742275800@www.newhope.us
SUMMARY:사순절 특별 새벽기도회 // 40 Days of Lenten Early Morning Prayer
DESCRIPTION:
URL:https://www.newhope.us/event/lenten-early-morning-prayer_2025/2025-03-18/
LOCATION:New Hope Church\, 6301 Stevens Forest Rd.\, Columbia\, MD\, 21046\, United States
END:VEVENT
BEGIN:VEVENT
DTSTART;TZID=America/New_York:20250317T053000
DTEND;TZID=America/New_York:20250317T053000
DTSTAMP:20260425T091854
CREATED:20250228T031859Z
LAST-MODIFIED:20250228T031859Z
UID:9880-1742189400-1742189400@www.newhope.us
SUMMARY:사순절 특별 새벽기도회 // 40 Days of Lenten Early Morning Prayer
DESCRIPTION:
URL:https://www.newhope.us/event/lenten-early-morning-prayer_2025/2025-03-17/
LOCATION:New Hope Church\, 6301 Stevens Forest Rd.\, Columbia\, MD\, 21046\, United States
END:VEVENT
END:VCALENDAR