BEGIN:VCALENDAR
VERSION:2.0
PRODID:-//New Hope Church - ECPv6.15.20//NONSGML v1.0//EN
CALSCALE:GREGORIAN
METHOD:PUBLISH
X-WR-CALNAME:New Hope Church
X-ORIGINAL-URL:https://www.newhope.us
X-WR-CALDESC:Events for New Hope Church
REFRESH-INTERVAL;VALUE=DURATION:PT1H
X-Robots-Tag:noindex
X-PUBLISHED-TTL:PT1H
BEGIN:VTIMEZONE
TZID:America/New_York
BEGIN:DAYLIGHT
TZOFFSETFROM:-0500
TZOFFSETTO:-0400
TZNAME:EDT
DTSTART:20240310T070000
END:DAYLIGHT
BEGIN:STANDARD
TZOFFSETFROM:-0400
TZOFFSETTO:-0500
TZNAME:EST
DTSTART:20241103T060000
END:STANDARD
BEGIN:DAYLIGHT
TZOFFSETFROM:-0500
TZOFFSETTO:-0400
TZNAME:EDT
DTSTART:20250309T070000
END:DAYLIGHT
BEGIN:STANDARD
TZOFFSETFROM:-0400
TZOFFSETTO:-0500
TZNAME:EST
DTSTART:20251102T060000
END:STANDARD
BEGIN:DAYLIGHT
TZOFFSETFROM:-0500
TZOFFSETTO:-0400
TZNAME:EDT
DTSTART:20260308T070000
END:DAYLIGHT
BEGIN:STANDARD
TZOFFSETFROM:-0400
TZOFFSETTO:-0500
TZNAME:EST
DTSTART:20261101T060000
END:STANDARD
END:VTIMEZONE
BEGIN:VEVENT
DTSTART;TZID=America/New_York:20251226T193000
DTEND;TZID=America/New_York:20251226T193000
DTSTAMP:20260425T170723
CREATED:20250111T051758Z
LAST-MODIFIED:20251202T022728Z
UID:9320-1766777400-1766777400@www.newhope.us
SUMMARY:금요 찬양 예배 / Friday Service
DESCRIPTION:
URL:https://www.newhope.us/event/friday-service/2025-12-26/
LOCATION:New Hope Church\, 6301 Stevens Forest Rd.\, Columbia\, MD\, 21046\, United States
CATEGORIES:금요 찬양예배 / Friday Service
END:VEVENT
BEGIN:VEVENT
DTSTART;TZID=America/New_York:20251219T193000
DTEND;TZID=America/New_York:20251219T193000
DTSTAMP:20260425T170723
CREATED:20250111T051758Z
LAST-MODIFIED:20251202T022728Z
UID:9319-1766172600-1766172600@www.newhope.us
SUMMARY:금요 찬양 예배 / Friday Service
DESCRIPTION:
URL:https://www.newhope.us/event/friday-service/2025-12-19/
LOCATION:New Hope Church\, 6301 Stevens Forest Rd.\, Columbia\, MD\, 21046\, United States
CATEGORIES:금요 찬양예배 / Friday Service
END:VEVENT
BEGIN:VEVENT
DTSTART;TZID=America/New_York:20251212T193000
DTEND;TZID=America/New_York:20251212T193000
DTSTAMP:20260425T170723
CREATED:20250111T051758Z
LAST-MODIFIED:20251202T022728Z
UID:9318-1765567800-1765567800@www.newhope.us
SUMMARY:금요 찬양 예배 / Friday Service
DESCRIPTION:
URL:https://www.newhope.us/event/friday-service/2025-12-12/
LOCATION:New Hope Church\, 6301 Stevens Forest Rd.\, Columbia\, MD\, 21046\, United States
CATEGORIES:금요 찬양예배 / Friday Service
END:VEVENT
BEGIN:VEVENT
DTSTART;TZID=America/New_York:20251128T193000
DTEND;TZID=America/New_York:20251128T193000
DTSTAMP:20260425T170723
CREATED:20250111T051758Z
LAST-MODIFIED:20251202T022728Z
UID:9316-1764358200-1764358200@www.newhope.us
SUMMARY:금요 찬양 예배 / Friday Service
DESCRIPTION:
URL:https://www.newhope.us/event/friday-service/2025-11-28/
LOCATION:New Hope Church\, 6301 Stevens Forest Rd.\, Columbia\, MD\, 21046\, United States
CATEGORIES:금요 찬양예배 / Friday Service
END:VEVENT
BEGIN:VEVENT
DTSTART;TZID=America/New_York:20251121T193000
DTEND;TZID=America/New_York:20251121T193000
DTSTAMP:20260425T170723
CREATED:20250111T051758Z
LAST-MODIFIED:20251202T022727Z
UID:9315-1763753400-1763753400@www.newhope.us
SUMMARY:금요 찬양 예배 / Friday Service
DESCRIPTION:
URL:https://www.newhope.us/event/friday-service/2025-11-21/
LOCATION:New Hope Church\, 6301 Stevens Forest Rd.\, Columbia\, MD\, 21046\, United States
CATEGORIES:금요 찬양예배 / Friday Service
END:VEVENT
BEGIN:VEVENT
DTSTART;TZID=America/New_York:20251114T193000
DTEND;TZID=America/New_York:20251114T193000
DTSTAMP:20260425T170723
CREATED:20250111T051758Z
LAST-MODIFIED:20251202T022727Z
UID:9314-1763148600-1763148600@www.newhope.us
SUMMARY:금요 찬양 예배 / Friday Service
DESCRIPTION:
URL:https://www.newhope.us/event/friday-service/2025-11-14/
LOCATION:New Hope Church\, 6301 Stevens Forest Rd.\, Columbia\, MD\, 21046\, United States
CATEGORIES:금요 찬양예배 / Friday Service
END:VEVENT
BEGIN:VEVENT
DTSTART;TZID=America/New_York:20251031T193000
DTEND;TZID=America/New_York:20251031T193000
DTSTAMP:20260425T170723
CREATED:20250111T051758Z
LAST-MODIFIED:20251202T022727Z
UID:9312-1761939000-1761939000@www.newhope.us
SUMMARY:금요 찬양 예배 / Friday Service
DESCRIPTION:
URL:https://www.newhope.us/event/friday-service/2025-10-31/
LOCATION:New Hope Church\, 6301 Stevens Forest Rd.\, Columbia\, MD\, 21046\, United States
CATEGORIES:금요 찬양예배 / Friday Service
END:VEVENT
BEGIN:VEVENT
DTSTART;TZID=America/New_York:20251024T193000
DTEND;TZID=America/New_York:20251024T193000
DTSTAMP:20260425T170723
CREATED:20250111T051758Z
LAST-MODIFIED:20251202T022727Z
UID:9311-1761334200-1761334200@www.newhope.us
SUMMARY:금요 찬양 예배 / Friday Service
DESCRIPTION:
URL:https://www.newhope.us/event/friday-service/2025-10-24/
LOCATION:New Hope Church\, 6301 Stevens Forest Rd.\, Columbia\, MD\, 21046\, United States
CATEGORIES:금요 찬양예배 / Friday Service
END:VEVENT
BEGIN:VEVENT
DTSTART;TZID=America/New_York:20251017T193000
DTEND;TZID=America/New_York:20251017T193000
DTSTAMP:20260425T170723
CREATED:20250111T051758Z
LAST-MODIFIED:20251202T022726Z
UID:9310-1760729400-1760729400@www.newhope.us
SUMMARY:금요 찬양 예배 / Friday Service
DESCRIPTION:
URL:https://www.newhope.us/event/friday-service/2025-10-17/
LOCATION:New Hope Church\, 6301 Stevens Forest Rd.\, Columbia\, MD\, 21046\, United States
CATEGORIES:금요 찬양예배 / Friday Service
END:VEVENT
BEGIN:VEVENT
DTSTART;TZID=America/New_York:20251010T193000
DTEND;TZID=America/New_York:20251010T193000
DTSTAMP:20260425T170723
CREATED:20250111T051758Z
LAST-MODIFIED:20251202T022726Z
UID:9309-1760124600-1760124600@www.newhope.us
SUMMARY:금요 찬양 예배 / Friday Service
DESCRIPTION:
URL:https://www.newhope.us/event/friday-service/2025-10-10/
LOCATION:New Hope Church\, 6301 Stevens Forest Rd.\, Columbia\, MD\, 21046\, United States
CATEGORIES:금요 찬양예배 / Friday Service
END:VEVENT
BEGIN:VEVENT
DTSTART;TZID=America/New_York:20250926T193000
DTEND;TZID=America/New_York:20250926T193000
DTSTAMP:20260425T170723
CREATED:20250111T051758Z
LAST-MODIFIED:20251202T022726Z
UID:9307-1758915000-1758915000@www.newhope.us
SUMMARY:금요 찬양 예배 / Friday Service
DESCRIPTION:
URL:https://www.newhope.us/event/friday-service/2025-09-26/
LOCATION:New Hope Church\, 6301 Stevens Forest Rd.\, Columbia\, MD\, 21046\, United States
CATEGORIES:금요 찬양예배 / Friday Service
END:VEVENT
BEGIN:VEVENT
DTSTART;TZID=America/New_York:20250919T193000
DTEND;TZID=America/New_York:20250919T193000
DTSTAMP:20260425T170723
CREATED:20250111T051758Z
LAST-MODIFIED:20251202T022726Z
UID:9306-1758310200-1758310200@www.newhope.us
SUMMARY:금요 찬양 예배 / Friday Service
DESCRIPTION:
URL:https://www.newhope.us/event/friday-service/2025-09-19/
LOCATION:New Hope Church\, 6301 Stevens Forest Rd.\, Columbia\, MD\, 21046\, United States
CATEGORIES:금요 찬양예배 / Friday Service
END:VEVENT
BEGIN:VEVENT
DTSTART;TZID=America/New_York:20250912T193000
DTEND;TZID=America/New_York:20250912T193000
DTSTAMP:20260425T170723
CREATED:20250111T051758Z
LAST-MODIFIED:20251202T022726Z
UID:9305-1757705400-1757705400@www.newhope.us
SUMMARY:금요 찬양 예배 / Friday Service
DESCRIPTION:
URL:https://www.newhope.us/event/friday-service/2025-09-12/
LOCATION:New Hope Church\, 6301 Stevens Forest Rd.\, Columbia\, MD\, 21046\, United States
CATEGORIES:금요 찬양예배 / Friday Service
END:VEVENT
BEGIN:VEVENT
DTSTART;TZID=America/New_York:20250815T193000
DTEND;TZID=America/New_York:20250815T193000
DTSTAMP:20260425T170723
CREATED:20250111T051758Z
LAST-MODIFIED:20251202T022726Z
UID:9301-1755286200-1755286200@www.newhope.us
SUMMARY:금요 찬양 예배 / Friday Service
DESCRIPTION:
URL:https://www.newhope.us/event/friday-service/2025-08-15/
LOCATION:New Hope Church\, 6301 Stevens Forest Rd.\, Columbia\, MD\, 21046\, United States
CATEGORIES:금요 찬양예배 / Friday Service
END:VEVENT
BEGIN:VEVENT
DTSTART;TZID=America/New_York:20250801T193000
DTEND;TZID=America/New_York:20250801T193000
DTSTAMP:20260425T170723
CREATED:20250111T051758Z
LAST-MODIFIED:20251202T022726Z
UID:9299-1754076600-1754076600@www.newhope.us
SUMMARY:금요 찬양 예배 / Friday Service
DESCRIPTION:
URL:https://www.newhope.us/event/friday-service/2025-08-01/
LOCATION:New Hope Church\, 6301 Stevens Forest Rd.\, Columbia\, MD\, 21046\, United States
CATEGORIES:금요 찬양예배 / Friday Service
END:VEVENT
BEGIN:VEVENT
DTSTART;TZID=America/New_York:20250725T193000
DTEND;TZID=America/New_York:20250725T193000
DTSTAMP:20260425T170723
CREATED:20250111T051758Z
LAST-MODIFIED:20251202T022725Z
UID:9298-1753471800-1753471800@www.newhope.us
SUMMARY:금요 찬양 예배 / Friday Service
DESCRIPTION:
URL:https://www.newhope.us/event/friday-service/2025-07-25/
LOCATION:New Hope Church\, 6301 Stevens Forest Rd.\, Columbia\, MD\, 21046\, United States
CATEGORIES:금요 찬양예배 / Friday Service
END:VEVENT
BEGIN:VEVENT
DTSTART;TZID=America/New_York:20250718T193000
DTEND;TZID=America/New_York:20250718T193000
DTSTAMP:20260425T170723
CREATED:20250111T051758Z
LAST-MODIFIED:20251202T022725Z
UID:9297-1752867000-1752867000@www.newhope.us
SUMMARY:금요 찬양 예배 / Friday Service
DESCRIPTION:
URL:https://www.newhope.us/event/friday-service/2025-07-18/
LOCATION:New Hope Church\, 6301 Stevens Forest Rd.\, Columbia\, MD\, 21046\, United States
CATEGORIES:금요 찬양예배 / Friday Service
END:VEVENT
BEGIN:VEVENT
DTSTART;TZID=America/New_York:20250704T193000
DTEND;TZID=America/New_York:20250704T193000
DTSTAMP:20260425T170723
CREATED:20250111T051758Z
LAST-MODIFIED:20251202T022724Z
UID:9295-1751657400-1751657400@www.newhope.us
SUMMARY:금요 찬양 예배 / Friday Service
DESCRIPTION:
URL:https://www.newhope.us/event/friday-service/2025-07-04/
LOCATION:New Hope Church\, 6301 Stevens Forest Rd.\, Columbia\, MD\, 21046\, United States
CATEGORIES:금요 찬양예배 / Friday Service
END:VEVENT
BEGIN:VEVENT
DTSTART;TZID=America/New_York:20250627T193000
DTEND;TZID=America/New_York:20250627T193000
DTSTAMP:20260425T170723
CREATED:20250111T051758Z
LAST-MODIFIED:20251202T022724Z
UID:9294-1751052600-1751052600@www.newhope.us
SUMMARY:금요 찬양 예배 / Friday Service
DESCRIPTION:
URL:https://www.newhope.us/event/friday-service/2025-06-27/
LOCATION:New Hope Church\, 6301 Stevens Forest Rd.\, Columbia\, MD\, 21046\, United States
CATEGORIES:금요 찬양예배 / Friday Service
END:VEVENT
BEGIN:VEVENT
DTSTART;TZID=America/New_York:20250620T193000
DTEND;TZID=America/New_York:20250620T193000
DTSTAMP:20260425T170723
CREATED:20250111T051758Z
LAST-MODIFIED:20251202T022724Z
UID:9293-1750447800-1750447800@www.newhope.us
SUMMARY:금요 찬양 예배 / Friday Service
DESCRIPTION:
URL:https://www.newhope.us/event/friday-service/2025-06-20/
LOCATION:New Hope Church\, 6301 Stevens Forest Rd.\, Columbia\, MD\, 21046\, United States
CATEGORIES:금요 찬양예배 / Friday Service
END:VEVENT
BEGIN:VEVENT
DTSTART;TZID=America/New_York:20250606T193000
DTEND;TZID=America/New_York:20250606T193000
DTSTAMP:20260425T170723
CREATED:20250111T051758Z
LAST-MODIFIED:20251202T022724Z
UID:9291-1749238200-1749238200@www.newhope.us
SUMMARY:금요 찬양 예배 / Friday Service
DESCRIPTION:
URL:https://www.newhope.us/event/friday-service/2025-06-06/
LOCATION:New Hope Church\, 6301 Stevens Forest Rd.\, Columbia\, MD\, 21046\, United States
CATEGORIES:금요 찬양예배 / Friday Service
END:VEVENT
BEGIN:VEVENT
DTSTART;TZID=America/New_York:20250530T193000
DTEND;TZID=America/New_York:20250530T193000
DTSTAMP:20260425T170723
CREATED:20250111T051758Z
LAST-MODIFIED:20251202T022724Z
UID:9290-1748633400-1748633400@www.newhope.us
SUMMARY:금요 찬양 예배 / Friday Service
DESCRIPTION:
URL:https://www.newhope.us/event/friday-service/2025-05-30/
LOCATION:New Hope Church\, 6301 Stevens Forest Rd.\, Columbia\, MD\, 21046\, United States
CATEGORIES:금요 찬양예배 / Friday Service
END:VEVENT
BEGIN:VEVENT
DTSTART;TZID=America/New_York:20250523T193000
DTEND;TZID=America/New_York:20250523T193000
DTSTAMP:20260425T170723
CREATED:20250111T051758Z
LAST-MODIFIED:20251202T022724Z
UID:9289-1748028600-1748028600@www.newhope.us
SUMMARY:금요 찬양 예배 / Friday Service
DESCRIPTION:
URL:https://www.newhope.us/event/friday-service/2025-05-23/
LOCATION:New Hope Church\, 6301 Stevens Forest Rd.\, Columbia\, MD\, 21046\, United States
CATEGORIES:금요 찬양예배 / Friday Service
END:VEVENT
BEGIN:VEVENT
DTSTART;TZID=America/New_York:20250509T193000
DTEND;TZID=America/New_York:20250509T193000
DTSTAMP:20260425T170723
CREATED:20250111T051758Z
LAST-MODIFIED:20251202T022724Z
UID:10032-1746819000-1746819000@www.newhope.us
SUMMARY:금요 찬양 예배 / Friday Service
DESCRIPTION:
URL:https://www.newhope.us/event/friday-service/2025-05-09/
LOCATION:New Hope Church\, 6301 Stevens Forest Rd.\, Columbia\, MD\, 21046\, United States
CATEGORIES:금요 찬양예배 / Friday Service
END:VEVENT
BEGIN:VEVENT
DTSTART;TZID=America/New_York:20250425T193000
DTEND;TZID=America/New_York:20250425T193000
DTSTAMP:20260425T170723
CREATED:20250111T051758Z
LAST-MODIFIED:20251202T022723Z
UID:9285-1745609400-1745609400@www.newhope.us
SUMMARY:금요 찬양 예배 / Friday Service
DESCRIPTION:
URL:https://www.newhope.us/event/friday-service/2025-04-25/
LOCATION:New Hope Church\, 6301 Stevens Forest Rd.\, Columbia\, MD\, 21046\, United States
CATEGORIES:금요 찬양예배 / Friday Service
END:VEVENT
BEGIN:VEVENT
DTSTART;TZID=America/New_York:20250411T193000
DTEND;TZID=America/New_York:20250411T193000
DTSTAMP:20260425T170723
CREATED:20250111T051758Z
LAST-MODIFIED:20251202T022721Z
UID:9283-1744399800-1744399800@www.newhope.us
SUMMARY:금요 찬양 예배 / Friday Service
DESCRIPTION:
URL:https://www.newhope.us/event/friday-service/2025-04-11/
LOCATION:New Hope Church\, 6301 Stevens Forest Rd.\, Columbia\, MD\, 21046\, United States
CATEGORIES:금요 찬양예배 / Friday Service
END:VEVENT
BEGIN:VEVENT
DTSTART;TZID=America/New_York:20250328T193000
DTEND;TZID=America/New_York:20250328T193000
DTSTAMP:20260425T170723
CREATED:20250111T051758Z
LAST-MODIFIED:20251202T022721Z
UID:9281-1743190200-1743190200@www.newhope.us
SUMMARY:금요 찬양 예배 / Friday Service
DESCRIPTION:
URL:https://www.newhope.us/event/friday-service/2025-03-28/
LOCATION:New Hope Church\, 6301 Stevens Forest Rd.\, Columbia\, MD\, 21046\, United States
CATEGORIES:금요 찬양예배 / Friday Service
END:VEVENT
BEGIN:VEVENT
DTSTART;TZID=America/New_York:20250314T193000
DTEND;TZID=America/New_York:20250314T193000
DTSTAMP:20260425T170723
CREATED:20250111T051758Z
LAST-MODIFIED:20251202T022721Z
UID:9278-1741980600-1741980600@www.newhope.us
SUMMARY:금요 찬양 예배 / Friday Service
DESCRIPTION:
URL:https://www.newhope.us/event/friday-service/2025-03-14/
LOCATION:New Hope Church\, 6301 Stevens Forest Rd.\, Columbia\, MD\, 21046\, United States
CATEGORIES:금요 찬양예배 / Friday Service
END:VEVENT
BEGIN:VEVENT
DTSTART;TZID=America/New_York:20250228T193000
DTEND;TZID=America/New_York:20250228T193000
DTSTAMP:20260425T170723
CREATED:20250111T051758Z
LAST-MODIFIED:20251202T022721Z
UID:9276-1740771000-1740771000@www.newhope.us
SUMMARY:금요 찬양 예배 / Friday Service
DESCRIPTION:
URL:https://www.newhope.us/event/friday-service/2025-02-28/
LOCATION:New Hope Church\, 6301 Stevens Forest Rd.\, Columbia\, MD\, 21046\, United States
CATEGORIES:금요 찬양예배 / Friday Service
END:VEVENT
BEGIN:VEVENT
DTSTART;TZID=America/New_York:20250221T193000
DTEND;TZID=America/New_York:20250221T193000
DTSTAMP:20260425T170723
CREATED:20250111T051758Z
LAST-MODIFIED:20251202T022720Z
UID:9275-1740166200-1740166200@www.newhope.us
SUMMARY:금요 찬양 예배 / Friday Service
DESCRIPTION:
URL:https://www.newhope.us/event/friday-service/2025-02-21/
LOCATION:New Hope Church\, 6301 Stevens Forest Rd.\, Columbia\, MD\, 21046\, United States
CATEGORIES:금요 찬양예배 / Friday Service
END:VEVENT
END:VCALENDAR