BEGIN:VCALENDAR
VERSION:2.0
PRODID:-//New Hope Church - ECPv6.15.20//NONSGML v1.0//EN
CALSCALE:GREGORIAN
METHOD:PUBLISH
X-ORIGINAL-URL:https://www.newhope.us
X-WR-CALDESC:Events for New Hope Church
REFRESH-INTERVAL;VALUE=DURATION:PT1H
X-Robots-Tag:noindex
X-PUBLISHED-TTL:PT1H
BEGIN:VTIMEZONE
TZID:America/New_York
BEGIN:DAYLIGHT
TZOFFSETFROM:-0500
TZOFFSETTO:-0400
TZNAME:EDT
DTSTART:20230312T070000
END:DAYLIGHT
BEGIN:STANDARD
TZOFFSETFROM:-0400
TZOFFSETTO:-0500
TZNAME:EST
DTSTART:20231105T060000
END:STANDARD
BEGIN:DAYLIGHT
TZOFFSETFROM:-0500
TZOFFSETTO:-0400
TZNAME:EDT
DTSTART:20240310T070000
END:DAYLIGHT
BEGIN:STANDARD
TZOFFSETFROM:-0400
TZOFFSETTO:-0500
TZNAME:EST
DTSTART:20241103T060000
END:STANDARD
BEGIN:DAYLIGHT
TZOFFSETFROM:-0500
TZOFFSETTO:-0400
TZNAME:EDT
DTSTART:20250309T070000
END:DAYLIGHT
BEGIN:STANDARD
TZOFFSETFROM:-0400
TZOFFSETTO:-0500
TZNAME:EST
DTSTART:20251102T060000
END:STANDARD
END:VTIMEZONE
BEGIN:VEVENT
DTSTART;TZID=America/New_York:20240307T193000
DTEND;TZID=America/New_York:20240307T193000
DTSTAMP:20260424T114418
CREATED:20240221T183121Z
LAST-MODIFIED:20240221T183121Z
UID:7616-1709839800-1709839800@www.newhope.us
SUMMARY:3월 첫열매 기도성회 / First Fruit Prayer Night
DESCRIPTION:
URL:https://www.newhope.us/event/3%ec%9b%94-%ec%b2%ab%ec%97%b4%eb%a7%a4-%ea%b8%b0%eb%8f%84%ec%84%b1%ed%9a%8c-first-fruit-prayer-night-2/2024-03-07/
LOCATION:New Hope Church\, 6301 Stevens Forest Rd.\, Columbia\, MD\, 21046\, United States
END:VEVENT
END:VCALENDAR